BEGIN:VCALENDAR
VERSION:2.0
PRODID:-//Tukios.com/
BEGIN:VEVENT
UID:d66dbffc-aef3-4724-a884-476b77ec844e@www.wardfuneralhomekansas.com
DTSTAMP:20260420T223519Z
DTSTART:20260425T153000Z
DTEND:20260425T163000Z
SUMMARY:Funeral Service
DESCRIPTION:
URL:https://www.wardfuneralhomekansas.com/obituaries/whitley-stewart
LOCATION:Washington Christian Church 16 C St  Washington KS 66968
GEO:39.8203087;-97.0510596
END:VEVENT
END:VCALENDAR