BEGIN:VCALENDAR
VERSION:2.0
PRODID:-//Tukios.com/
BEGIN:VEVENT
UID:9ffc147a-6be0-445a-98b9-b4ed0e065399@www.wardfuneralhomekansas.com
DTSTAMP:20260420T223459Z
DTSTART:20260424T200000Z
DTEND:20260425T010000Z
SUMMARY:Visitation
DESCRIPTION:
URL:https://www.wardfuneralhomekansas.com/obituaries/whitley-stewart
LOCATION:Ward Funeral Home 115 W 2nd St  Washington KS 66968
GEO:39.8188398;-97.0520405
END:VEVENT
END:VCALENDAR